BEGIN:VCALENDAR
VERSION:2.0
PRODID:-//RJCCQ - ECPv6.15.18//NONSGML v1.0//EN
CALSCALE:GREGORIAN
METHOD:PUBLISH
X-WR-CALNAME:RJCCQ
X-ORIGINAL-URL:https://rjccq.com
X-WR-CALDESC:événements pour RJCCQ
REFRESH-INTERVAL;VALUE=DURATION:PT1H
X-Robots-Tag:noindex
X-PUBLISHED-TTL:PT1H
BEGIN:VTIMEZONE
TZID:America/Toronto
BEGIN:DAYLIGHT
TZOFFSETFROM:-0500
TZOFFSETTO:-0400
TZNAME:EDT
DTSTART:20220313T070000
END:DAYLIGHT
BEGIN:STANDARD
TZOFFSETFROM:-0400
TZOFFSETTO:-0500
TZNAME:EST
DTSTART:20221106T060000
END:STANDARD
BEGIN:DAYLIGHT
TZOFFSETFROM:-0500
TZOFFSETTO:-0400
TZNAME:EDT
DTSTART:20230312T070000
END:DAYLIGHT
BEGIN:STANDARD
TZOFFSETFROM:-0400
TZOFFSETTO:-0500
TZNAME:EST
DTSTART:20231105T060000
END:STANDARD
BEGIN:DAYLIGHT
TZOFFSETFROM:-0500
TZOFFSETTO:-0400
TZNAME:EDT
DTSTART:20240310T070000
END:DAYLIGHT
BEGIN:STANDARD
TZOFFSETFROM:-0400
TZOFFSETTO:-0500
TZNAME:EST
DTSTART:20241103T060000
END:STANDARD
END:VTIMEZONE
BEGIN:VEVENT
DTSTART;TZID=America/Toronto:20230427T160000
DTEND;TZID=America/Toronto:20230427T180000
DTSTAMP:20260422T035742
CREATED:20230426T183104Z
LAST-MODIFIED:20230426T184923Z
UID:5047-1682611200-1682618400@rjccq.com
SUMMARY:Techno’elles | Arrêt Sherbrooke
DESCRIPTION:Cette initiative vise à sensibiliser et outiller les femmes de 18 à 35 ans dans le milieu des affaires sur les possibilités de formation\, de rehaussement de compétences et de requalification possibles dans le domaine des STIM (sciences\, technologie\, ingénierie\, mathématiques).\nDÉROULEMENT➜ Mots d’ouverture\, présentation des organisateurs\, des intervenantes et de leur expérience➜ Portrait de la situation actuelle : Quelle place occupent les femmes dans les STIM au Québec et ailleurs? À quels stéréotypes sont-elles confrontées?➜ Focus sur les opportunités offertes à celles qui veulent se réorienter vers des carrières liées aux STIM : programmes de formation variés\, mentorat\, intrapreneuriat. Quel est le rôle des employeurs dans tout ça?➜ Discussion sur la représentation et l’inclusion des femmes dans les STIM : À quoi ressemble une véritable diversité dans ces domaines et comment y parvenir? Quelles sont les mesures à prendre pour que les femmes aspirent à y travailler?Vous pourrez dialoguer avec les intervenantes tout au long de la rencontre grâce à une plateforme interactive.
URL:https://rjccq.com/evenements/technoelles-arret-sherbrooke/
LOCATION:Golf et Académie Longchamp\, 3455 Rue du Fer-Droit\, Sherbrooke\, Québec\, J1H 0A8\, Canada
ORGANIZER;CN="RJCCQ":MAILTO:info@rjccq.com
END:VEVENT
END:VCALENDAR