BEGIN:VCALENDAR
VERSION:2.0
PRODID:-//RJCCQ - ECPv6.15.18//NONSGML v1.0//EN
CALSCALE:GREGORIAN
METHOD:PUBLISH
X-WR-CALNAME:RJCCQ
X-ORIGINAL-URL:https://rjccq.com
X-WR-CALDESC:événements pour RJCCQ
REFRESH-INTERVAL;VALUE=DURATION:PT1H
X-Robots-Tag:noindex
X-PUBLISHED-TTL:PT1H
BEGIN:VTIMEZONE
TZID:America/Toronto
BEGIN:DAYLIGHT
TZOFFSETFROM:-0500
TZOFFSETTO:-0400
TZNAME:EDT
DTSTART:20220313T070000
END:DAYLIGHT
BEGIN:STANDARD
TZOFFSETFROM:-0400
TZOFFSETTO:-0500
TZNAME:EST
DTSTART:20221106T060000
END:STANDARD
BEGIN:DAYLIGHT
TZOFFSETFROM:-0500
TZOFFSETTO:-0400
TZNAME:EDT
DTSTART:20230312T070000
END:DAYLIGHT
BEGIN:STANDARD
TZOFFSETFROM:-0400
TZOFFSETTO:-0500
TZNAME:EST
DTSTART:20231105T060000
END:STANDARD
BEGIN:DAYLIGHT
TZOFFSETFROM:-0500
TZOFFSETTO:-0400
TZNAME:EDT
DTSTART:20240310T070000
END:DAYLIGHT
BEGIN:STANDARD
TZOFFSETFROM:-0400
TZOFFSETTO:-0500
TZNAME:EST
DTSTART:20241103T060000
END:STANDARD
END:VTIMEZONE
BEGIN:VEVENT
DTSTART;TZID=America/Toronto:20230601T160000
DTEND;TZID=America/Toronto:20230601T180000
DTSTAMP:20260422T004153
CREATED:20230428T175923Z
LAST-MODIFIED:20230512T153932Z
UID:5089-1685635200-1685642400@rjccq.com
SUMMARY:Techno’elles | Arrêt Montréal
DESCRIPTION:Cette initiative vise à sensibiliser et outiller les femmes de 18 à 35 ans dans le milieu des affaires sur les possibilités de formation\, de rehaussement de compétences et de requalification possibles dans le domaine des STIM (sciences\, technologie\, ingénierie\, mathématiques).\nDÉROULEMENT\n➜ Mots d’ouverture\, présentation des organisateurs\, des intervenantes et de leur expérience\n➜ Portrait de la situation actuelle : Quelle place occupent les femmes dans les STIM au Québec et ailleurs? À quels stéréotypes sont-elles confrontées?\n➜ Focus sur les opportunités offertes à celles qui veulent se réorienter vers des carrières liées aux STIM : programmes de formation variés\, mentorat\, intrapreneuriat. Quel est le rôle des employeurs dans tout ça?\n➜ Discussion sur la représentation et l’inclusion des femmes dans les STIM : À quoi ressemble une véritable diversité dans ces domaines et comment y parvenir? Quelles sont les mesures à prendre pour que les femmes aspirent à y travailler?\nVous pourrez dialoguer avec les intervenantes tout au long de la rencontre grâce à une plateforme interactive.
URL:https://rjccq.com/evenements/technoelles-arret-montreal/
LOCATION:Tour Scotia – 8e étage\, 1002 Sherbrooke Street West\, Montréal\, QC\, Canada
ORGANIZER;CN="RJCCQ":MAILTO:info@rjccq.com
END:VEVENT
BEGIN:VEVENT
DTSTART;TZID=America/Toronto:20230608T080000
DTEND;TZID=America/Toronto:20230609T180000
DTSTAMP:20260422T004153
CREATED:20230426T184628Z
LAST-MODIFIED:20230426T184713Z
UID:5066-1686211200-1686333600@rjccq.com
SUMMARY:Sommet international de l'écocitoyenneté
DESCRIPTION:Aimez-vous prendre part à des discussions fondamentales ? Désirez-vous contribuer à l’élaboration d’un plan pour le droit des futures générations? Souhaitez-vous faire partie du changement? \nInscrivez-vous au Sommet international de l’écocitoyenneté (SIDE) les 8 et 9 juin prochains au Palais des congrès de Montréal! Plus de 90 conférenciers seront présents pour discuter avec vous : \n\ndes changements climatiques et du droit des futures générations;\nd’entrepreneuriat responsable;\nd’égalité des genres\, de racisme et d’intersectionnalité.
URL:https://rjccq.com/evenements/sommet-international-de-lecocitoyennete/
LOCATION:Palais des congrès de Montréal\, 159\, rue Saint-Antoine Ouest\, 9e étage\, Montréal\, Québec\, H2Z 1H2\, Canada
END:VEVENT
END:VCALENDAR