BEGIN:VCALENDAR
VERSION:2.0
PRODID:-//RJCCQ - ECPv6.15.18//NONSGML v1.0//EN
CALSCALE:GREGORIAN
METHOD:PUBLISH
X-ORIGINAL-URL:https://rjccq.com
X-WR-CALDESC:événements pour RJCCQ
REFRESH-INTERVAL;VALUE=DURATION:PT1H
X-Robots-Tag:noindex
X-PUBLISHED-TTL:PT1H
BEGIN:VTIMEZONE
TZID:America/Toronto
BEGIN:DAYLIGHT
TZOFFSETFROM:-0500
TZOFFSETTO:-0400
TZNAME:EDT
DTSTART:20220313T070000
END:DAYLIGHT
BEGIN:STANDARD
TZOFFSETFROM:-0400
TZOFFSETTO:-0500
TZNAME:EST
DTSTART:20221106T060000
END:STANDARD
BEGIN:DAYLIGHT
TZOFFSETFROM:-0500
TZOFFSETTO:-0400
TZNAME:EDT
DTSTART:20230312T070000
END:DAYLIGHT
BEGIN:STANDARD
TZOFFSETFROM:-0400
TZOFFSETTO:-0500
TZNAME:EST
DTSTART:20231105T060000
END:STANDARD
BEGIN:DAYLIGHT
TZOFFSETFROM:-0500
TZOFFSETTO:-0400
TZNAME:EDT
DTSTART:20240310T070000
END:DAYLIGHT
BEGIN:STANDARD
TZOFFSETFROM:-0400
TZOFFSETTO:-0500
TZNAME:EST
DTSTART:20241103T060000
END:STANDARD
END:VTIMEZONE
BEGIN:VEVENT
DTSTART;VALUE=DATE:20231012
DTEND;VALUE=DATE:20231013
DTSTAMP:20260421T182754
CREATED:20230822T201829Z
LAST-MODIFIED:20230824T163207Z
UID:5404-1697068800-1697155199@rjccq.com
SUMMARY:Mouvement Repreneuriat : Salon Chaudière-Appalaches
DESCRIPTION:Organisé en collaboration avec l’Aile Jeunesse de la Chambre de commerce de Saint-Georges.\nArticulée autour de trois axes\, cette série d’activités vise à créer un parcours regroupant des initiatives de sensibilisation\, la mise sur pied d’un programme de formations ainsi que la création d’opportunités de rencontres augmentant les chances de créer des maillages cédants-repreneurs.
URL:https://rjccq.com/evenements/mouvement-repreneuriat-salon-chaudiere-appalaches/
CATEGORIES:Mouvement Repreneuriat
END:VEVENT
BEGIN:VEVENT
DTSTART;VALUE=DATE:20231020
DTEND;VALUE=DATE:20231022
DTSTAMP:20260421T182754
CREATED:20230822T202737Z
LAST-MODIFIED:20230822T202906Z
UID:5413-1697760000-1697932799@rjccq.com
SUMMARY:Formation Administrateurs de la relève
DESCRIPTION:Ce programme répond à un besoin pressant de formation en matière de gouvernance auprès des jeunes gens d’affaires composés d’entrepreneurs\, cadres et professionnels âgés de 18 à 40 ans.\n\nAu cours des deux jours de formation\, les participants découvrent l’essentiel des aspects juridiques\, des ressources financières\, des meilleures pratiques en gouvernance\, de la gouvernance des coopératives\, de la gouvernance stratégique et du savoir-être dans les conseils d’administration.\n\nAu terme de la formation\, les participants prennent part à une simulation de C.A et assistent à un témoignage d’un administrateur de la relève au parcours inspirant.\n 
URL:https://rjccq.com/evenements/formation-administrateurs-de-la-releve-10/
LOCATION:En virtuel
CATEGORIES:Administrateurs de la relève
ATTACH;FMTTYPE=image/png:https://rjccq.com/wp-content/uploads/2020/08/adr-recrutement.png
ORGANIZER;CN="RJCCQ":MAILTO:info@rjccq.com
END:VEVENT
END:VCALENDAR