BEGIN:VCALENDAR
VERSION:2.0
PRODID:-//RJCCQ - ECPv6.15.18//NONSGML v1.0//EN
CALSCALE:GREGORIAN
METHOD:PUBLISH
X-ORIGINAL-URL:https://rjccq.com
X-WR-CALDESC:événements pour RJCCQ
REFRESH-INTERVAL;VALUE=DURATION:PT1H
X-Robots-Tag:noindex
X-PUBLISHED-TTL:PT1H
BEGIN:VTIMEZONE
TZID:America/Toronto
BEGIN:DAYLIGHT
TZOFFSETFROM:-0500
TZOFFSETTO:-0400
TZNAME:EDT
DTSTART:20230312T070000
END:DAYLIGHT
BEGIN:STANDARD
TZOFFSETFROM:-0400
TZOFFSETTO:-0500
TZNAME:EST
DTSTART:20231105T060000
END:STANDARD
BEGIN:DAYLIGHT
TZOFFSETFROM:-0500
TZOFFSETTO:-0400
TZNAME:EDT
DTSTART:20240310T070000
END:DAYLIGHT
BEGIN:STANDARD
TZOFFSETFROM:-0400
TZOFFSETTO:-0500
TZNAME:EST
DTSTART:20241103T060000
END:STANDARD
BEGIN:DAYLIGHT
TZOFFSETFROM:-0500
TZOFFSETTO:-0400
TZNAME:EDT
DTSTART:20250309T070000
END:DAYLIGHT
BEGIN:STANDARD
TZOFFSETFROM:-0400
TZOFFSETTO:-0500
TZNAME:EST
DTSTART:20251102T060000
END:STANDARD
END:VTIMEZONE
BEGIN:VEVENT
DTSTART;VALUE=DATE:20240507
DTEND;VALUE=DATE:20240508
DTSTAMP:20260421T075742
CREATED:20240118T192244Z
LAST-MODIFIED:20250502T193850Z
UID:5992-1715040000-1715126399@rjccq.com
SUMMARY:Programme Leadership Intensif
DESCRIPTION:Intégrez la toute nouvelle cohorte en ligne du Programme Leadership Intensif de l’Institut de leadership\, offerte par le Regroupement des jeunes chambres de commerce du Québec. Une opportunité unique se présente à vous\, avec une réduction significative sur les frais d’inscription\, grâce à la participation du gouvernement du Québec par l’entremise du ministère de l’Emploi et de la Solidarité sociale. Conçu pour les professionnels évoluant déjà dans des postes à responsabilités ou aspirant à y accéder\, ce programme immersif va au-delà de la simple formation\, offrant une plongée approfondie dans les rouages du leadership au cœur des enjeux du monde des affaires actuel.\nPrix de 995$ pouvant aller jusqu’à 735$ avec la subvention salariale* (Tarif régulier de 2495$)\n\n*Vous devez assister aux heures de formation\, fournir une preuve salariale et être admissible pour avoir droit à la subvention.\n 
URL:https://rjccq.com/evenements/programme-leadership-intensif/
LOCATION:En virtuel
ATTACH;FMTTYPE=image/png:https://rjccq.com/wp-content/uploads/2024/02/programme-leadership-intensif.png
ORGANIZER;CN="RJCCQ":MAILTO:info@rjccq.com
END:VEVENT
END:VCALENDAR